BEGIN:VCALENDAR
VERSION:2.0
PRODID:-// - ECPv6.2.8.1//NONSGML v1.0//EN
CALSCALE:GREGORIAN
METHOD:PUBLISH
X-ORIGINAL-URL:http://blacksburgsoccer.us
X-WR-CALDESC:Events for 
REFRESH-INTERVAL;VALUE=DURATION:PT1H
X-Robots-Tag:noindex
X-PUBLISHED-TTL:PT1H
BEGIN:VTIMEZONE
TZID:UTC
BEGIN:STANDARD
TZOFFSETFROM:+0000
TZOFFSETTO:+0000
TZNAME:UTC
DTSTART:20180101T000000
END:STANDARD
END:VTIMEZONE
BEGIN:VEVENT
DTSTART;TZID=UTC:20180223T145000
DTEND;TZID=UTC:20180223T151500
DTSTAMP:20260422T024710
CREATED:20180215T125726Z
LAST-MODIFIED:20170928T170953Z
UID:2692-1519397400-1519398900@blacksburgsoccer.us
SUMMARY:Fundraising Kickoff
DESCRIPTION:During this meeting we will review the 2018 Girls Soccer fundraising program.  Our discount card is the most successful fundraising opportunity we have and generates 90% of the funds needed to organize and run the JV and Varsity girls soccer teams. \nAll players on the JV and Varsity Soccer teams must participate in this fundraising activity.  We will review how many cards each player will be responsible for\, the length of the program\, AND the prizes that will be up for grabs. \nPlease be on time to this meeting! \nThere will also be a news post listed on our homepage advertising this event on February 21st.  Click here to see that post.
URL:http://blacksburgsoccer.us/ecevent/fundraising-kickoff/
LOCATION:BHS Game Tape Room\, 3401 Bruin Ln\, Blacksburg\, VA\, 24060\, United States
CATEGORIES:Meeting
END:VEVENT
END:VCALENDAR