BEGIN:VCALENDAR
VERSION:2.0
PRODID:-// - ECPv6.2.8.1//NONSGML v1.0//EN
CALSCALE:GREGORIAN
METHOD:PUBLISH
X-ORIGINAL-URL:http://blacksburgsoccer.us
X-WR-CALDESC:Events for 
REFRESH-INTERVAL;VALUE=DURATION:PT1H
X-Robots-Tag:noindex
X-PUBLISHED-TTL:PT1H
BEGIN:VTIMEZONE
TZID:UTC
BEGIN:STANDARD
TZOFFSETFROM:+0000
TZOFFSETTO:+0000
TZNAME:UTC
DTSTART:20180101T000000
END:STANDARD
END:VTIMEZONE
BEGIN:VEVENT
DTSTART;TZID=UTC:20180406T173000
DTEND;TZID=UTC:20180406T183000
DTSTAMP:20260421T213636
CREATED:20180110T041559Z
LAST-MODIFIED:20180317T204733Z
UID:3525-1523035800-1523039400@blacksburgsoccer.us
SUMMARY:JV at Radford
DESCRIPTION:BHS Plays Radford at Radford High School.  Click Here for full game details.  Bus Time is 4pm.
URL:http://blacksburgsoccer.us/ecevent/jv-vs-radford/
CATEGORIES:Game
END:VEVENT
BEGIN:VEVENT
DTSTART;TZID=UTC:20180406T190000
DTEND;TZID=UTC:20180406T203000
DTSTAMP:20260421T213636
CREATED:20180111T170717Z
LAST-MODIFIED:20180317T203708Z
UID:3583-1523041200-1523046600@blacksburgsoccer.us
SUMMARY:Varsity at Radford
DESCRIPTION:BHS Plays Radford at Radford High School.  Click Here for full game details.  Bus Time is 4pm.
URL:http://blacksburgsoccer.us/ecevent/jv-vs-radford-3/
CATEGORIES:Game
END:VEVENT
END:VCALENDAR