BEGIN:VCALENDAR
VERSION:2.0
PRODID:-// - ECPv6.2.8.1//NONSGML v1.0//EN
CALSCALE:GREGORIAN
METHOD:PUBLISH
X-ORIGINAL-URL:http://blacksburgsoccer.us
X-WR-CALDESC:Events for 
REFRESH-INTERVAL;VALUE=DURATION:PT1H
X-Robots-Tag:noindex
X-PUBLISHED-TTL:PT1H
BEGIN:VTIMEZONE
TZID:UTC
BEGIN:STANDARD
TZOFFSETFROM:+0000
TZOFFSETTO:+0000
TZNAME:UTC
DTSTART:20180101T000000
END:STANDARD
END:VTIMEZONE
BEGIN:VEVENT
DTSTART;TZID=UTC:20180427T173000
DTEND;TZID=UTC:20180427T183000
DTSTAMP:20260421T214021
CREATED:20180110T213107Z
LAST-MODIFIED:20180112T135602Z
UID:3545-1524850200-1524853800@blacksburgsoccer.us
SUMMARY:JV at HV
DESCRIPTION:BHS Plays Hidden Valley and Hidden Valley High School.  Click Here for full game details.  Bus Time TBD.
URL:http://blacksburgsoccer.us/ecevent/jv-vs-radford-2-2-4/
CATEGORIES:Game
END:VEVENT
BEGIN:VEVENT
DTSTART;TZID=UTC:20180427T190000
DTEND;TZID=UTC:20180427T203000
DTSTAMP:20260421T214021
CREATED:20180112T140435Z
LAST-MODIFIED:20180112T140435Z
UID:3614-1524855600-1524861000@blacksburgsoccer.us
SUMMARY:Varsity at HV
DESCRIPTION:BHS Plays Hidden Valley and Hidden Valley High School.  Click Here for full game details.  Bus Time TBD.
URL:http://blacksburgsoccer.us/ecevent/var-vs-hv-2-2018/
CATEGORIES:Game
END:VEVENT
END:VCALENDAR