BEGIN:VCALENDAR
VERSION:2.0
PRODID:-// - ECPv6.2.8.1//NONSGML v1.0//EN
CALSCALE:GREGORIAN
METHOD:PUBLISH
X-ORIGINAL-URL:http://blacksburgsoccer.us
X-WR-CALDESC:Events for 
REFRESH-INTERVAL;VALUE=DURATION:PT1H
X-Robots-Tag:noindex
X-PUBLISHED-TTL:PT1H
BEGIN:VTIMEZONE
TZID:UTC
BEGIN:STANDARD
TZOFFSETFROM:+0000
TZOFFSETTO:+0000
TZNAME:UTC
DTSTART:20180101T000000
END:STANDARD
END:VTIMEZONE
BEGIN:VEVENT
DTSTART;TZID=UTC:20180504T173000
DTEND;TZID=UTC:20180504T183000
DTSTAMP:20260421T200009
CREATED:20171016T191509Z
LAST-MODIFIED:20180320T001207Z
UID:2971-1525455000-1525458600@blacksburgsoccer.us
SUMMARY:JV vs Radford
DESCRIPTION:BHS Plays Radford at home.  Click Here for full game details. \n\n	Details\n	\n		\n			\n				\n											Date\n												Time\n												League\n												Season\n										\n			\n			\n				\n											May 4\, 2018\n												5:30 pm\n												VHSL JV\n												2018\n										\n			\n		\n	\n\n\n\n	ResultsClub1st Half2nd HalfScoreOutcomeBlacksburg JV303WinRadford JV000Loss\n\n		\n			\n			Blacksburg JV\n		\n		\n			\n				\n									\n			\n							\n					4Mckenzie Cheynet  7Mary Jordan Defender 11Riley Verniel  15Morgan Cheynet 1Jordan Bonds Goalkeeper 				\n								\n			\n			\n		\nPlayers should arrive and be ready to go 45 minutes prior to game time.
URL:http://blacksburgsoccer.us/ecevent/varsity-vs-radford-2/
LOCATION:Bill Brown Stadium\, 3401 Bruin Ln\, BLACKSBURG\, VA\, 24060-2468\, United States
CATEGORIES:Game
END:VEVENT
BEGIN:VEVENT
DTSTART;TZID=UTC:20180504T190000
DTEND;TZID=UTC:20180504T203000
DTSTAMP:20260421T200009
CREATED:20170911T162423Z
LAST-MODIFIED:20180320T001117Z
UID:2687-1525460400-1525465800@blacksburgsoccer.us
SUMMARY:Varsity vs Radford
DESCRIPTION:BHS Plays Radford at home.  Click Here for full game details. \n\n	Details\n	\n		\n			\n				\n											Date\n												Time\n												League\n												Season\n										\n			\n			\n				\n											May 4\, 2018\n												7:00 pm\n												VHSL\n												2018\n										\n			\n		\n	\n\n\n\n	ResultsClub1st Half2nd HalfScoreOutcomeBlacksburg303WinRadford000Loss\n\n		\n			\n			Blacksburg\n		\n		\n			\n				\n									\n			\n							\n					0Margaret Ferguson Goalkeeper 1Kinsey Verbrugge Goalkeeper  3Ashlen Burch Midfielder 5Blake Carroll Defender 7Kyia Williams Forward 10Skyler Prosser Forward 14Akaela Feng Forward 29Leah Daily Goalkeeper
URL:http://blacksburgsoccer.us/ecevent/varsity-vs-radford/
LOCATION:Bill Brown Stadium\, 3401 Bruin Ln\, BLACKSBURG\, VA\, 24060-2468\, United States
CATEGORIES:Game
END:VEVENT
END:VCALENDAR