BEGIN:VCALENDAR
VERSION:2.0
PRODID:-// - ECPv6.2.8.1//NONSGML v1.0//EN
CALSCALE:GREGORIAN
METHOD:PUBLISH
X-ORIGINAL-URL:http://blacksburgsoccer.us
X-WR-CALDESC:Events for 
REFRESH-INTERVAL;VALUE=DURATION:PT1H
X-Robots-Tag:noindex
X-PUBLISHED-TTL:PT1H
BEGIN:VTIMEZONE
TZID:UTC
BEGIN:STANDARD
TZOFFSETFROM:+0000
TZOFFSETTO:+0000
TZNAME:UTC
DTSTART:20180101T000000
END:STANDARD
END:VTIMEZONE
BEGIN:VEVENT
DTSTART;TZID=UTC:20180517T190000
DTEND;TZID=UTC:20180517T190000
DTSTAMP:20260421T120356
CREATED:20180110T220644Z
LAST-MODIFIED:20180110T221911Z
UID:3564-1526583600-1526583600@blacksburgsoccer.us
SUMMARY:District QuarterFinal
DESCRIPTION:
URL:http://blacksburgsoccer.us/ecevent/district-quarterfinal/
CATEGORIES:Game
END:VEVENT
END:VCALENDAR