BEGIN:VCALENDAR
VERSION:2.0
PRODID:-// - ECPv6.2.8.1//NONSGML v1.0//EN
CALSCALE:GREGORIAN
METHOD:PUBLISH
X-ORIGINAL-URL:http://blacksburgsoccer.us
X-WR-CALDESC:Events for 
REFRESH-INTERVAL;VALUE=DURATION:PT1H
X-Robots-Tag:noindex
X-PUBLISHED-TTL:PT1H
BEGIN:VTIMEZONE
TZID:UTC
BEGIN:STANDARD
TZOFFSETFROM:+0000
TZOFFSETTO:+0000
TZNAME:UTC
DTSTART:20190101T000000
END:STANDARD
END:VTIMEZONE
BEGIN:VEVENT
DTSTART;TZID=UTC:20190305T160000
DTEND;TZID=UTC:20190305T170000
DTSTAMP:20260420T150723
CREATED:20190205T174316Z
LAST-MODIFIED:20190205T174316Z
UID:5482-1551801600-1551805200@blacksburgsoccer.us
SUMMARY:Picture Day
DESCRIPTION:All JV and Varsity Players will participated in Spring Sport Picture Day.  Times will be provided for each team by the head coach.  Those interested in purchasing school pictures should obtain an order form from the school office and bring picture money to the photo shoot.
URL:http://blacksburgsoccer.us/ecevent/picture-day/
CATEGORIES:Practice
END:VEVENT
END:VCALENDAR