BEGIN:VCALENDAR
VERSION:2.0
PRODID:-// - ECPv6.2.8.1//NONSGML v1.0//EN
CALSCALE:GREGORIAN
METHOD:PUBLISH
X-ORIGINAL-URL:http://blacksburgsoccer.us
X-WR-CALDESC:Events for 
REFRESH-INTERVAL;VALUE=DURATION:PT1H
X-Robots-Tag:noindex
X-PUBLISHED-TTL:PT1H
BEGIN:VTIMEZONE
TZID:UTC
BEGIN:STANDARD
TZOFFSETFROM:+0000
TZOFFSETTO:+0000
TZNAME:UTC
DTSTART:20190101T000000
END:STANDARD
END:VTIMEZONE
BEGIN:VEVENT
DTSTART;TZID=UTC:20190306T170000
DTEND;TZID=UTC:20190306T170000
DTSTAMP:20260415T153155
CREATED:20190215T153441Z
LAST-MODIFIED:20190215T153526Z
UID:5809-1551891600-1551891600@blacksburgsoccer.us
SUMMARY:Scrim JV at MVHS
DESCRIPTION:BHS Girls JV and Varsity will travel to Magna Vista High School for a scrimmage. \nJV Bus time will be 2:00 pm
URL:http://blacksburgsoccer.us/ecevent/scrim-jv-at-mvhs-2/
CATEGORIES:Game
END:VEVENT
BEGIN:VEVENT
DTSTART;TZID=UTC:20190306T183000
DTEND;TZID=UTC:20190306T200000
DTSTAMP:20260415T153155
CREATED:20190215T152744Z
LAST-MODIFIED:20190215T152744Z
UID:5807-1551897000-1551902400@blacksburgsoccer.us
SUMMARY:Scrim at Magna Vista
DESCRIPTION:BHS Girls JV and Varsity will travel to Magna Vista High School for a scrimmage. \nVarsity Bus Time will be 2:00pm. \n 
URL:http://blacksburgsoccer.us/ecevent/scrim-at-wahs-2/
CATEGORIES:Game
END:VEVENT
END:VCALENDAR