BEGIN:VCALENDAR
VERSION:2.0
PRODID:-// - ECPv6.2.8.1//NONSGML v1.0//EN
CALSCALE:GREGORIAN
METHOD:PUBLISH
X-ORIGINAL-URL:http://blacksburgsoccer.us
X-WR-CALDESC:Events for 
REFRESH-INTERVAL;VALUE=DURATION:PT1H
X-Robots-Tag:noindex
X-PUBLISHED-TTL:PT1H
BEGIN:VTIMEZONE
TZID:UTC
BEGIN:STANDARD
TZOFFSETFROM:+0000
TZOFFSETTO:+0000
TZNAME:UTC
DTSTART:20190101T000000
END:STANDARD
END:VTIMEZONE
BEGIN:VEVENT
DTSTART;TZID=UTC:20190309T150000
DTEND;TZID=UTC:20190310T160000
DTSTAMP:20260420T150722
CREATED:20190209T132046Z
LAST-MODIFIED:20190209T132634Z
UID:5665-1552143600-1552233600@blacksburgsoccer.us
SUMMARY:Varsity Overnight Trip
DESCRIPTION:After the Western Albemarle jamboree the varsity team will travel to Richmond to participate in a series of team building events.  The team will return home Sunday afternoon.
URL:http://blacksburgsoccer.us/ecevent/varsity-overnight-trip/
CATEGORIES:Practice
END:VEVENT
END:VCALENDAR