BEGIN:VCALENDAR
VERSION:2.0
PRODID:-// - ECPv6.2.8.1//NONSGML v1.0//EN
CALSCALE:GREGORIAN
METHOD:PUBLISH
X-ORIGINAL-URL:http://blacksburgsoccer.us
X-WR-CALDESC:Events for 
REFRESH-INTERVAL;VALUE=DURATION:PT1H
X-Robots-Tag:noindex
X-PUBLISHED-TTL:PT1H
BEGIN:VTIMEZONE
TZID:UTC
BEGIN:STANDARD
TZOFFSETFROM:+0000
TZOFFSETTO:+0000
TZNAME:UTC
DTSTART:20190101T000000
END:STANDARD
END:VTIMEZONE
BEGIN:VEVENT
DTSTART;TZID=UTC:20190312T173000
DTEND;TZID=UTC:20190312T183000
DTSTAMP:20260418T222641
CREATED:20180813T155507Z
LAST-MODIFIED:20180813T163253Z
UID:4310-1552411800-1552415400@blacksburgsoccer.us
SUMMARY:JV vs Franklin County
DESCRIPTION:BHS Plays Franklin County at home.  Click Here for full game details. \n\n	Details\n	\n		\n			\n				\n											Date\n												Time\n												League\n												Season\n										\n			\n			\n				\n											March 12\, 2019\n												5:30 pm\n												VHSL JV\n												2019\n										\n			\n		\n	\n\n\n\n	ResultsClub1st Half2nd HalfScoreOutcomeBlacksburg JV325WinFranklin County JV000Loss\n\n		\n			\n			Blacksburg JV\n		\n		\n			\n				\n									\n			\n							\n					5Siri Bedsaul Forward   11Peyton Seeley Midfielder  4Mila Santsaver-Jones Defender 10Emily Bishop Defender 16Lily Rascher Defender 1Ana Cox Goalkeeper
URL:http://blacksburgsoccer.us/ecevent/jv-vs-franklin-county/
CATEGORIES:Game
END:VEVENT
BEGIN:VEVENT
DTSTART;TZID=UTC:20190312T190000
DTEND;TZID=UTC:20190312T203000
DTSTAMP:20260418T222641
CREATED:20180813T155154Z
LAST-MODIFIED:20180813T163207Z
UID:4308-1552417200-1552422600@blacksburgsoccer.us
SUMMARY:Varsity vs Franklin County
DESCRIPTION:BHS Plays Franklin County at home.  Click Here for full game details. \n\n	Details\n	\n		\n			\n				\n											Date\n												Time\n												League\n												Season\n										\n			\n			\n				\n											March 12\, 2019\n												7:00 pm\n												VHSL\n												2019\n										\n			\n		\n	\n\n\n\n	ResultsClub1st Half2nd HalfScoreOutcomeBlacksburg112WinFranklin County000Loss\n\n		\n			\n			Blacksburg\n		\n		\n			\n				\n									\n			\n							\n					1Kinsey Verbrugge Goalkeeper    6Jeddie Dawson Defender 10Skyler Prosser Forward 13Eva Moeltner Midfielder 18Kayla Monaghan Midfielder
URL:http://blacksburgsoccer.us/ecevent/varsity-vs-franklin-county/
CATEGORIES:Game
END:VEVENT
END:VCALENDAR