BEGIN:VCALENDAR
VERSION:2.0
PRODID:-// - ECPv6.2.8.1//NONSGML v1.0//EN
CALSCALE:GREGORIAN
METHOD:PUBLISH
X-ORIGINAL-URL:http://blacksburgsoccer.us
X-WR-CALDESC:Events for 
REFRESH-INTERVAL;VALUE=DURATION:PT1H
X-Robots-Tag:noindex
X-PUBLISHED-TTL:PT1H
BEGIN:VTIMEZONE
TZID:UTC
BEGIN:STANDARD
TZOFFSETFROM:+0000
TZOFFSETTO:+0000
TZNAME:UTC
DTSTART:20180101T000000
END:STANDARD
END:VTIMEZONE
BEGIN:VEVENT
DTSTART;TZID=UTC:20180219T100000
DTEND;TZID=UTC:20180219T120000
DTSTAMP:20260421T204005
CREATED:20170911T155810Z
LAST-MODIFIED:20180218T144240Z
UID:2678-1519034400-1519041600@blacksburgsoccer.us
SUMMARY:2018 Season Begins!
DESCRIPTION:The 2018 season kicks off with the first day of tryouts on February 19th\, President’s day.  There will be two tryout sessions on this day. \n  \nFor complete details on the BHS Girls Soccer Tryout process go to the Tryout Information Post.
URL:http://blacksburgsoccer.us/ecevent/2018-season-begins/
LOCATION:Girls Soccer Practice Field\, 3401 Bruin Ln\, BLACKSBURG\, VA\, 24060-2468\, United States
CATEGORIES:Practice
ATTACH;FMTTYPE=image/jpeg:http://blacksburgsoccer.us/wp-content/uploads/2017/01/tryoutsnew.jpg
END:VEVENT
BEGIN:VEVENT
DTSTART;TZID=UTC:20180213T190000
DTEND;TZID=UTC:20180213T200000
DTSTAMP:20260421T204005
CREATED:20180110T222915Z
LAST-MODIFIED:20180110T222915Z
UID:3576-1518548400-1518552000@blacksburgsoccer.us
SUMMARY:All Spring Sports Meeting
DESCRIPTION:All parents of BHS Spring Student Athletes are invited to attend a meeting with the Athletic Director at 7pm in the BHS  Auditorium.
URL:http://blacksburgsoccer.us/ecevent/all-spring-sports-meeting/
CATEGORIES:Meeting
END:VEVENT
END:VCALENDAR