BEGIN:VCALENDAR
VERSION:2.0
PRODID:-// - ECPv6.2.8.1//NONSGML v1.0//EN
CALSCALE:GREGORIAN
METHOD:PUBLISH
X-ORIGINAL-URL:http://blacksburgsoccer.us
X-WR-CALDESC:Events for 
REFRESH-INTERVAL;VALUE=DURATION:PT1H
X-Robots-Tag:noindex
X-PUBLISHED-TTL:PT1H
BEGIN:VTIMEZONE
TZID:UTC
BEGIN:STANDARD
TZOFFSETFROM:+0000
TZOFFSETTO:+0000
TZNAME:UTC
DTSTART:20190101T000000
END:STANDARD
END:VTIMEZONE
BEGIN:VEVENT
DTSTART;TZID=UTC:20190402T173000
DTEND;TZID=UTC:20190402T183000
DTSTAMP:20260418T025422
CREATED:20180813T175026Z
LAST-MODIFIED:20190215T224834Z
UID:4519-1554226200-1554229800@blacksburgsoccer.us
SUMMARY:JV at Pulaski
DESCRIPTION:BHS plays Pulaski at Pulaski High School.  Click Here for full game details. Bus Time is 4:00PM. \n\n	Details\n	\n		\n			\n				\n											Date\n												Time\n												League\n												Season\n										\n			\n			\n				\n											April 2\, 2019\n												Canceled\n												VHSL JV\n												2019
URL:http://blacksburgsoccer.us/ecevent/jv-at-pulaski/
CATEGORIES:Game
END:VEVENT
BEGIN:VEVENT
DTSTART;TZID=UTC:20190402T190000
DTEND;TZID=UTC:20190402T203000
DTSTAMP:20260418T025422
CREATED:20180813T174651Z
LAST-MODIFIED:20190215T224714Z
UID:4517-1554231600-1554237000@blacksburgsoccer.us
SUMMARY:Varsity at Pulaski
DESCRIPTION:BHS plays Pulaski at Pulaski High School.   Click Here for full game details.  Bus Time is 4:00PM. \n\n	Details\n	\n		\n			\n				\n											Date\n												Time\n												League\n												Season\n										\n			\n			\n				\n											April 2\, 2019\n												7:00 pm\n												VHSL\n												2019\n										\n			\n		\n	\n\n \n\n	ResultsClub1st Half2nd HalfScoreOutcomeBlacksburg347WinPulaski000Loss\n \n		\n			\n			Blacksburg\n		\n		\n			\n				\n									\n			\n							\n					1Kinsey Verbrugge Goalkeeper   6Jeddie Dawson Defender 8Kate Strickland Midfielder 10Skyler Prosser Forward  13Eva Moeltner Midfielder   14Akaela Feng Forward 16Taylor Price Forward 20Sophia Sobrado Forward 				\n								\n			\n			\n		 \n 
URL:http://blacksburgsoccer.us/ecevent/varsity-at-pulaski/
CATEGORIES:Game
END:VEVENT
BEGIN:VEVENT
DTSTART;TZID=UTC:20190405T173000
DTEND;TZID=UTC:20190405T183000
DTSTAMP:20260418T025422
CREATED:20180813T175515Z
LAST-MODIFIED:20180813T175515Z
UID:4523-1554485400-1554489000@blacksburgsoccer.us
SUMMARY:JV vs Patrick Henry
DESCRIPTION:BHS plays Patrick Henry at home.  Click Here for full game details. \n\n	Details\n	\n		\n			\n				\n											Date\n												Time\n												League\n												Season\n										\n			\n			\n				\n											May 10\, 2019\n												5:30 pm\n												VHSL JV\n												2019\n										\n			\n		\n	\n\n \n\n	ResultsClub1st Half2nd HalfScoreOutcomeBlacksburg JV437WinPatrick Henry JV000Loss\n \n		\n			\n			Blacksburg JV\n		\n		\n			\n				\n									\n			\n							\n					2Camille Girardeau-Montaut Midfielder   4Mila Santsaver-Jones Midfielder 5Siri Bedsaul Forward 11Peyton Seeley Midfielder 12Emily Bishop Defender 13Norin Bortz Midfielder 16Lily Rascher Forward 18Alexis Hamborsky Midfielder  19Rebecca Webster Defender 1Ana Cox Goalkeeper
URL:http://blacksburgsoccer.us/ecevent/jv-vs-patrick-henry/
CATEGORIES:Game
END:VEVENT
BEGIN:VEVENT
DTSTART;TZID=UTC:20190405T190000
DTEND;TZID=UTC:20190405T203000
DTSTAMP:20260418T025422
CREATED:20180813T175329Z
LAST-MODIFIED:20180813T175329Z
UID:4521-1554490800-1554496200@blacksburgsoccer.us
SUMMARY:Varsity vs Patrick Henry
DESCRIPTION:BHS plays Patrick Henry at home.  Click Here for full game details. \n\n	Details\n	\n		\n			\n				\n											Date\n												Time\n												League\n												Season\n										\n			\n			\n				\n											May 10\, 2019\n												7:00 pm\n												VHSL\n												2019\n										\n			\n		\n	\n\n \n\n	ResultsClub1st Half2nd HalfScoreOutcomeBlacksburg303WinPatrick Henry000Loss\n \n		\n			\n			Blacksburg\n		\n		\n			\n				\n									\n			\n							\n					7Riley Verniel Midfielder 10Skyler Prosser Forward  12Ellie Gresh Midfielder 18Kayla Monaghan Midfielder 1Kinsey Verbrugge Goalkeeper  				\n								\n			\n			\n		 \n 
URL:http://blacksburgsoccer.us/ecevent/varsity-vs-patrick-henry/
CATEGORIES:Game
END:VEVENT
BEGIN:VEVENT
DTSTART;TZID=UTC:20190409T173000
DTEND;TZID=UTC:20190409T183000
DTSTAMP:20260418T025422
CREATED:20180813T181310Z
LAST-MODIFIED:20180813T181519Z
UID:4532-1554831000-1554834600@blacksburgsoccer.us
SUMMARY:JV vs Christiansburg
DESCRIPTION:BHS plays Christiansburg at home.  Click Here for full game details. \n\n	Details\n	\n		\n			\n				\n											Date\n												Time\n												League\n												Season\n										\n			\n			\n				\n											April 11\, 2019\n												6:00 pm\n												VHSL JV\n												2019\n										\n			\n		\n	\n\n \n\n	ResultsClub1st Half2nd HalfScoreOutcomeBlacksburg JV000DrawChristiansburg JV000Draw\n \n		\n			\n			Blacksburg JV\n		\n		\n			\n				\n									\n			\n							\n					1Ana Cox Goalkeeper
URL:http://blacksburgsoccer.us/ecevent/jv-vs-christiansburg/
CATEGORIES:Game
END:VEVENT
BEGIN:VEVENT
DTSTART;TZID=UTC:20190409T190000
DTEND;TZID=UTC:20190409T203000
DTSTAMP:20260418T025422
CREATED:20180813T181055Z
LAST-MODIFIED:20180813T181056Z
UID:4530-1554836400-1554841800@blacksburgsoccer.us
SUMMARY:Varsity vs Christiansburg
DESCRIPTION:BHS plays Christiansburg at home.  Click Here for full game details. \n\n	Details\n	\n		\n			\n				\n											Date\n												Time\n												League\n												Season\n										\n			\n			\n				\n											April 9\, 2019\n												7:00 pm\n												VHSL\n												2019\n										\n			\n		\n	\n\n \n\n	ResultsClub1st Half2nd HalfScoreOutcomeBlacksburg101WinChristiansburg000Loss\n \n		\n			\n			Blacksburg\n		\n		\n			\n				\n									\n			\n							\n					1Kinsey Verbrugge Goalkeeper    13Eva Moeltner Midfielder 14Akaela Feng Forward 				\n								\n			\n			\n		 \n 
URL:http://blacksburgsoccer.us/ecevent/varsity-vs-christiansburg/
CATEGORIES:Game
END:VEVENT
BEGIN:VEVENT
DTSTART;TZID=UTC:20190412T173000
DTEND;TZID=UTC:20190412T183000
DTSTAMP:20260418T025422
CREATED:20180813T182530Z
LAST-MODIFIED:20180813T182623Z
UID:4537-1555090200-1555093800@blacksburgsoccer.us
SUMMARY:JV vs Hidden Valley
DESCRIPTION:BHS plays Hidden Valley at home.  Click Here for full game details. \n\n	Details\n	\n		\n			\n				\n											Date\n												Time\n												League\n												Season\n										\n			\n			\n				\n											May 2\, 2019\n												5:30 pm\n												VHSL JV\n												2019\n										\n			\n		\n	\n\n \n\n	ResultsClub1st Half2nd HalfScoreOutcomeBlacksburg JV538WinHidden Valley JV000Loss\n \n		\n			\n			Blacksburg JV\n		\n		\n			\n				\n									\n			\n							\n					1Ana Cox Goalkeeper  4Mila Santsaver-Jones Midfielder   5Siri Bedsaul Forward   9Ava Massjouni Midfielder 12Emily Bishop Defender 17Sophia Vikesland Forward 13Norin Bortz Midfielder
URL:http://blacksburgsoccer.us/ecevent/jv-vs-hidden-valley/
CATEGORIES:Game
END:VEVENT
BEGIN:VEVENT
DTSTART;TZID=UTC:20190412T190000
DTEND;TZID=UTC:20190412T203000
DTSTAMP:20260418T025422
CREATED:20180813T181900Z
LAST-MODIFIED:20180813T181900Z
UID:4534-1555095600-1555101000@blacksburgsoccer.us
SUMMARY:Varsity vs Hidden Valley
DESCRIPTION:BHS plays Hidden Valley at home.  Click Here for full game details. \n\n	Details\n	\n		\n			\n				\n											Date\n												Time\n												League\n												Season\n										\n			\n			\n				\n											May 2\, 2019\n												7:00 pm\n												VHSL\n												2019\n										\n			\n		\n	\n\n \n\n	ResultsClub1st Half2nd HalfScoreOutcomeBlacksburg101DrawHidden Valley011Draw\n \n		\n			\n			Blacksburg\n		\n		\n			\n				\n									\n			\n							\n					1Kinsey Verbrugge Goalkeeper  13Eva Moeltner Midfielder 15Kylene Monaghan Midfielder
URL:http://blacksburgsoccer.us/ecevent/varsity-vs-hidden-valley/
CATEGORIES:Game
END:VEVENT
BEGIN:VEVENT
DTSTART;VALUE=DATE:20190417
DTEND;VALUE=DATE:20190422
DTSTAMP:20260418T025422
CREATED:20180813T184710Z
LAST-MODIFIED:20180919T131918Z
UID:4617-1555459200-1555891199@blacksburgsoccer.us
SUMMARY:Spring Break - Off
DESCRIPTION:Both JV and Varsity teams will have off for Spring Break.  Optional sessions may be offered for those in town.
URL:http://blacksburgsoccer.us/ecevent/spring-break-off/
END:VEVENT
BEGIN:VEVENT
DTSTART;TZID=UTC:20190424T173000
DTEND;TZID=UTC:20190424T183000
DTSTAMP:20260418T025422
CREATED:20180813T184403Z
LAST-MODIFIED:20180919T122832Z
UID:4615-1556127000-1556130600@blacksburgsoccer.us
SUMMARY:JV vs Radford
DESCRIPTION:BHS plays Radford at home.  Click Here for full game details. \n\n	Details\n	\n		\n			\n				\n											Date\n												Time\n												League\n												Season\n										\n			\n			\n				\n											April 24\, 2019\n												6:00 pm\n												VHSL JV\n												2019\n										\n			\n		\n	\n\n \n\n	ResultsClub1st Half2nd HalfScoreOutcomeBlacksburg JV033WinWilliam Byrd JV101Loss\n \n		\n			\n			Blacksburg JV\n		\n		\n			\n				\n									\n			\n							\n					5Siri Bedsaul Forward 11Peyton Seeley Midfielder 12Emily Bishop Defender 13Norin Bortz Midfielder 18Alexis Hamborsky Midfielder
URL:http://blacksburgsoccer.us/ecevent/jv-vs-radford-2/
CATEGORIES:Game
END:VEVENT
BEGIN:VEVENT
DTSTART;TZID=UTC:20190424T190000
DTEND;TZID=UTC:20190424T203000
DTSTAMP:20260418T025422
CREATED:20180813T184232Z
LAST-MODIFIED:20180919T122816Z
UID:4613-1556132400-1556137800@blacksburgsoccer.us
SUMMARY:Varsity vs Radford
DESCRIPTION:BHS plays Radford at home.  Click Here for full game details. \n\n	Details\n	\n		\n			\n				\n											Date\n												Time\n												League\n												Season\n										\n			\n			\n				\n											April 23\, 2019\n												6:00 pm\n												VHSL\n												2019\n										\n			\n		\n	\n\n \n\n	ResultsClub1st Half2nd HalfScoreOutcomeBlacksburg011WinRadford000Loss\n \n		\n			\n			Blacksburg\n		\n		\n			\n				\n									\n			\n							\n					1Kinsey Verbrugge Goalkeeper  13Eva Moeltner Midfielder 18Kayla Monaghan Midfielder
URL:http://blacksburgsoccer.us/ecevent/varsity-vs-radford-3/
CATEGORIES:Game
END:VEVENT
BEGIN:VEVENT
DTSTART;TZID=UTC:20190426T180000
DTEND;TZID=UTC:20190426T190000
DTSTAMP:20260418T025422
CREATED:20180813T185119Z
LAST-MODIFIED:20190214T130104Z
UID:4621-1556301600-1556305200@blacksburgsoccer.us
SUMMARY:JV vs Cave Spring
DESCRIPTION:BHS plays Cave Spring at home.  Click Here for full game details. \n\n	Details\n	\n		\n			\n				\n											Date\n												Time\n												League\n												Season\n										\n			\n			\n				\n											April 26\, 2019\n												5:30 pm\n												VHSL JV\n												2019\n										\n			\n		\n	\n\n \n\n	ResultsClub1st Half2nd HalfScoreOutcomeBlacksburg JV022WinCave Spring JV000Loss\n \n		\n			\n			Blacksburg JV\n		\n		\n			\n				\n									\n			\n							\n					1Ana Cox Goalkeeper   5Siri Bedsaul Forward 12Emily Bishop Defender 13Norin Bortz Midfielder
URL:http://blacksburgsoccer.us/ecevent/jv-vs-cave-spring/
CATEGORIES:Game
END:VEVENT
BEGIN:VEVENT
DTSTART;TZID=UTC:20190426T193000
DTEND;TZID=UTC:20190426T210000
DTSTAMP:20260418T025422
CREATED:20180813T184932Z
LAST-MODIFIED:20190214T131823Z
UID:4619-1556307000-1556312400@blacksburgsoccer.us
SUMMARY:Varsity vs Cave Spring
DESCRIPTION:BHS plays Cave Spring at home.  Click Here for full game details. \n\n	Details\n	\n		\n			\n				\n											Date\n												Time\n												League\n												Season\n										\n			\n			\n				\n											April 25\, 2019\n												8:00 pm\n												VHSL\n												2019\n										\n			\n		\n	\n\n \n\n	ResultsClub1st Half2nd HalfScoreOutcomeBlacksburg112WinCave Spring000Loss\n \n		\n			\n			Blacksburg\n		\n		\n			\n				\n									\n			\n							\n					1Kinsey Verbrugge Goalkeeper     4Scarlett Hurst Forward  5Morgan Cheynet Midfielder 15Kylene Monaghan Midfielder 				\n								\n			\n			\n		 \n 
URL:http://blacksburgsoccer.us/ecevent/varsity-vs-cave-spring/
CATEGORIES:Game
END:VEVENT
BEGIN:VEVENT
DTSTART;TZID=UTC:20190430T173000
DTEND;TZID=UTC:20190430T183000
DTSTAMP:20260418T025422
CREATED:20180813T190803Z
LAST-MODIFIED:20190215T224921Z
UID:4625-1556645400-1556649000@blacksburgsoccer.us
SUMMARY:JV at Salem
DESCRIPTION:BHS plays Salem at Salem High School.  Click Here for full game details. Bus Time is 3:45PM. \n\n	Details\n	\n		\n			\n				\n											Date\n												Time\n												League\n												Season\n										\n			\n			\n				\n											April 4\, 2019\n												5:30 pm\n												VHSL JV\n												2019\n										\n			\n		\n	\n\n \n\n	ResultsClub1st Half2nd HalfScoreOutcomeBlacksburg JV448WinAlleghany JV000Loss\n \n		\n			\n			Blacksburg JV\n		\n		\n			\n				\n									\n			\n							\n					1Ana Cox Goalkeeper 4Mila Santsaver-Jones Midfielder   5Siri Bedsaul Forward   7Mary Jordan Defender   9Ava Massjouni Midfielder 12Emily Bishop Defender 13Norin Bortz Midfielder 14Addie Zeiger Forward 15Annelise Rosmaita Defender 17Sophia Vikesland Forward
URL:http://blacksburgsoccer.us/ecevent/jv-at-salem/
CATEGORIES:Game
END:VEVENT
BEGIN:VEVENT
DTSTART;TZID=UTC:20190430T190000
DTEND;TZID=UTC:20190430T203000
DTSTAMP:20260418T025422
CREATED:20180813T190410Z
LAST-MODIFIED:20190215T225002Z
UID:4623-1556650800-1556656200@blacksburgsoccer.us
SUMMARY:Varsity at Salem
DESCRIPTION:BHS plays Salem at Salem High School.  Click Here for full game details. Bus Time is 4:00PM. \n\n	Details\n	\n		\n			\n				\n											Date\n												Time\n												League\n												Season\n										\n			\n			\n				\n											April 30\, 2019\n												8:00 pm\n												VHSL\n												2019\n										\n			\n		\n	\n\n \n\n	ResultsClub1st Half2nd HalfScoreOutcomeBlacksburg213WinSalem000Loss\n \n		\n			\n			Blacksburg\n		\n		\n			\n				\n									\n			\n							\n					1Kinsey Verbrugge Goalkeeper    4Scarlett Hurst Forward 10Skyler Prosser Forward  7Riley Verniel Midfielder 15Kylene Monaghan Midfielder
URL:http://blacksburgsoccer.us/ecevent/varsity-at-salem/
CATEGORIES:Game
END:VEVENT
END:VCALENDAR