BEGIN:VCALENDAR
VERSION:2.0
PRODID:-// - ECPv6.2.8.1//NONSGML v1.0//EN
CALSCALE:GREGORIAN
METHOD:PUBLISH
X-ORIGINAL-URL:http://blacksburgsoccer.us
X-WR-CALDESC:Events for 
REFRESH-INTERVAL;VALUE=DURATION:PT1H
X-Robots-Tag:noindex
X-PUBLISHED-TTL:PT1H
BEGIN:VTIMEZONE
TZID:UTC
BEGIN:STANDARD
TZOFFSETFROM:+0000
TZOFFSETTO:+0000
TZNAME:UTC
DTSTART:20180101T000000
END:STANDARD
END:VTIMEZONE
BEGIN:VEVENT
DTSTART;VALUE=DATE:20180303
DTEND;VALUE=DATE:20180304
DTSTAMP:20260421T233419
CREATED:20180122T212956Z
LAST-MODIFIED:20180302T024720Z
UID:3631-1520035200-1520121599@blacksburgsoccer.us
SUMMARY:Var Jambo @ WB
DESCRIPTION:BHS Varsity travels to William Byrd for a full day jamboree.  Bus time is 7:45am.  We will leave at 7:45am. \n\n\n\nTime\n \nLight\nv\nDark\n\n\n9:00-9:35\n\nWilliam Byrd\n\nLiberty\n\n\n9:40-10:15\n\nBlacksburg\n\nFranklin County\n\n\n10:20-10:55\n\nJames River\n\nGlenvar\n\n\n11:00-11:35\n\nBlacksburg\n\nWilliam Byrd\n\n\n11:40-12:15\n\nFranklin County\n\nJames River\n\n\n12:20-12:55\n\nLiberty\n\nBlacksburg\n\n\n1:00-1:35\n\nGlenvar\n\nFranklin County\n\n\n1:40-2:15\n\nLiberty\n\nJames River\n\n\n2:20-2:55\n\nWilliam Byrd\n\nGlenvar\n\n\n\n\nVarsity matches are 35 minutes with a running clock.\nJV matches are 30 minutes with a running clock.\n5 minutes between matches.\nThere will be a $5.00 admission charge. Concessions will be sold.\nWe have a new track\, so no cleats will be allowed on the track\nWarm-up and practice space will be available\nConcessions will be sold.
URL:http://blacksburgsoccer.us/ecevent/var-jambo-wb/
END:VEVENT
BEGIN:VEVENT
DTSTART;VALUE=DATE:20180303
DTEND;VALUE=DATE:20180304
DTSTAMP:20260421T233419
CREATED:20180122T213138Z
LAST-MODIFIED:20180302T022608Z
UID:3633-1520035200-1520121599@blacksburgsoccer.us
SUMMARY:JV Jambo @ WB
DESCRIPTION:BHS JV travels to William Byrd for a full day jamboree.  Bus Time is 1:30pm.  The Bus should arrive home by 8pm. \n\n\n\n3:40-4:10\n\nLiberty\nJV\nBlacksburg\n\n\n4:15-4:45\n\nFranklin County\n\nHidden Valley\n\n\n4:50-5:20\n\nWilliam Byrd\n\nLiberty\n\n\n5:25-5:55\n\nHidden Valley\n\nBlacksburg\n\n\n6:00-6:30\n\nFranklin County\n\nLiberty\n\n\n6:35-7:05\n\nBlacksburg\n\nWilliam Byrd\n\n\n7:10-7:40\n\nWilliam Byrd\n\nFranklin County\n\n\n\n\nVarsity matches are 35 minutes with a running clock.\nJV matches are 30 minutes with a running clock.\n5 minutes between matches.\nThere will be a $5.00 admission charge. Concessions will be sold.\nWe have a new track\, so no cleats will be allowed on the track\nWarm-up and practice space will be available\nConcessions will be sold.
URL:http://blacksburgsoccer.us/ecevent/jv-jambo-wb/
END:VEVENT
END:VCALENDAR