BEGIN:VCALENDAR
VERSION:2.0
PRODID:-// - ECPv6.2.8.1//NONSGML v1.0//EN
CALSCALE:GREGORIAN
METHOD:PUBLISH
X-ORIGINAL-URL:http://blacksburgsoccer.us
X-WR-CALDESC:Events for 
REFRESH-INTERVAL;VALUE=DURATION:PT1H
X-Robots-Tag:noindex
X-PUBLISHED-TTL:PT1H
BEGIN:VTIMEZONE
TZID:UTC
BEGIN:STANDARD
TZOFFSETFROM:+0000
TZOFFSETTO:+0000
TZNAME:UTC
DTSTART:20180101T000000
END:STANDARD
END:VTIMEZONE
BEGIN:VEVENT
DTSTART;TZID=UTC:20180411T173000
DTEND;TZID=UTC:20180411T183000
DTSTAMP:20260422T010212
CREATED:20180110T212057Z
LAST-MODIFIED:20180111T175815Z
UID:3531-1523467800-1523471400@blacksburgsoccer.us
SUMMARY:JV vs Cburg
DESCRIPTION:BHS Plays Christiansburg at home.  Click Here for full game details.  Players should arrive and be ready to go 45 minutes prior to game time.
URL:http://blacksburgsoccer.us/ecevent/jv-vs-cburg-1-2018/
LOCATION:Bill Brown Stadium\, 3401 Bruin Ln\, BLACKSBURG\, VA\, 24060-2468\, United States
CATEGORIES:Game
END:VEVENT
BEGIN:VEVENT
DTSTART;TZID=UTC:20180411T190000
DTEND;TZID=UTC:20180411T203000
DTSTAMP:20260422T010212
CREATED:20180111T171134Z
LAST-MODIFIED:20180111T181137Z
UID:3585-1523473200-1523478600@blacksburgsoccer.us
SUMMARY:Varsity vs Cburg
DESCRIPTION:BHS Plays Christiansburg at home.  Click Here for full game details.  Players should arrive and be ready to go 45 minutes prior to game time.
URL:http://blacksburgsoccer.us/ecevent/var-vs-cburg-1-2018/
LOCATION:Bill Brown Stadium\, 3401 Bruin Ln\, BLACKSBURG\, VA\, 24060-2468\, United States
CATEGORIES:Game
END:VEVENT
BEGIN:VEVENT
DTSTART;TZID=UTC:20180413T173000
DTEND;TZID=UTC:20180413T183000
DTSTAMP:20260422T010212
CREATED:20180110T212401Z
LAST-MODIFIED:20180317T203841Z
UID:3534-1523640600-1523644200@blacksburgsoccer.us
SUMMARY:JV at Salem
DESCRIPTION:BHS Plays Salem at Salem HS.  Click Here for full game details.  Bus Time is 3:45.
URL:http://blacksburgsoccer.us/ecevent/jv-vs-salem-1-2018/
CATEGORIES:Game
END:VEVENT
BEGIN:VEVENT
DTSTART;TZID=UTC:20180413T190000
DTEND;TZID=UTC:20180413T203000
DTSTAMP:20260422T010212
CREATED:20180111T172725Z
LAST-MODIFIED:20180317T203759Z
UID:3589-1523646000-1523651400@blacksburgsoccer.us
SUMMARY:Varsity at Salem
DESCRIPTION:BHS Plays Salem at Salem HS.  Click Here for full game details.  Bus Time is 3:45.
URL:http://blacksburgsoccer.us/ecevent/var-vs-salem-1-2018/
CATEGORIES:Game
END:VEVENT
END:VCALENDAR