BEGIN:VCALENDAR
VERSION:2.0
PRODID:-// - ECPv6.2.8.1//NONSGML v1.0//EN
CALSCALE:GREGORIAN
METHOD:PUBLISH
X-ORIGINAL-URL:http://blacksburgsoccer.us
X-WR-CALDESC:Events for 
REFRESH-INTERVAL;VALUE=DURATION:PT1H
X-Robots-Tag:noindex
X-PUBLISHED-TTL:PT1H
BEGIN:VTIMEZONE
TZID:UTC
BEGIN:STANDARD
TZOFFSETFROM:+0000
TZOFFSETTO:+0000
TZNAME:UTC
DTSTART:20180101T000000
END:STANDARD
END:VTIMEZONE
BEGIN:VEVENT
DTSTART;TZID=UTC:20180514T173000
DTEND;TZID=UTC:20180514T183000
DTSTAMP:20260421T102915
CREATED:20180110T212923Z
LAST-MODIFIED:20180424T150905Z
UID:3543-1526319000-1526322600@blacksburgsoccer.us
SUMMARY:JV at Cburg
DESCRIPTION:BHS Plays Christiansburg at Auburn HS.  Click Here for full game details.  Bus Time is 4pm.
URL:http://blacksburgsoccer.us/ecevent/jv-vs-cburg-2-2018/
CATEGORIES:Game
END:VEVENT
BEGIN:VEVENT
DTSTART;TZID=UTC:20180514T190000
DTEND;TZID=UTC:20180514T203000
DTSTAMP:20260421T102915
CREATED:20180111T175931Z
LAST-MODIFIED:20180424T150716Z
UID:3605-1526324400-1526329800@blacksburgsoccer.us
SUMMARY:Varsity at Cburg
DESCRIPTION:BHS Plays Christiansburg at Auburn HS.  Click Here for full game details.  Bus Time is 4pm.
URL:http://blacksburgsoccer.us/ecevent/var-vs-cburg-2-2018/
CATEGORIES:Game
END:VEVENT
BEGIN:VEVENT
DTSTART;TZID=UTC:20180515T173000
DTEND;TZID=UTC:20180515T183000
DTSTAMP:20260421T102915
CREATED:20180110T215551Z
LAST-MODIFIED:20180112T144750Z
UID:3554-1526405400-1526409000@blacksburgsoccer.us
SUMMARY:JV vs PH
DESCRIPTION:BHS Plays Patrick Henry at home.  Click Here for full game details.  Players should arrive and be ready to go 45 minutes prior to game time.
URL:http://blacksburgsoccer.us/ecevent/jv-vs-ph-2-2018/
LOCATION:Bill Brown Stadium\, 3401 Bruin Ln\, BLACKSBURG\, VA\, 24060-2468\, United States
CATEGORIES:Game
END:VEVENT
BEGIN:VEVENT
DTSTART;TZID=UTC:20180515T190000
DTEND;TZID=UTC:20180515T203000
DTSTAMP:20260421T102915
CREATED:20180112T145232Z
LAST-MODIFIED:20180112T145315Z
UID:3624-1526410800-1526416200@blacksburgsoccer.us
SUMMARY:Var vs PH
DESCRIPTION:BHS Plays Patrick Henry at home.  Click Here for full game details.  Players should arrive and be ready to go 45 minutes prior to game time.
URL:http://blacksburgsoccer.us/ecevent/var-vs-ph-2-2018/
LOCATION:Bill Brown Stadium\, 3401 Bruin Ln\, BLACKSBURG\, VA\, 24060-2468\, United States
CATEGORIES:Game
END:VEVENT
BEGIN:VEVENT
DTSTART;TZID=UTC:20180516T163000
DTEND;TZID=UTC:20180516T183000
DTSTAMP:20260421T102915
CREATED:20180110T220356Z
LAST-MODIFIED:20180125T010725Z
UID:3556-1526488200-1526495400@blacksburgsoccer.us
SUMMARY:Post Season Practice
DESCRIPTION:
URL:http://blacksburgsoccer.us/ecevent/post-season-practice/2018-05-16/
LOCATION:Bill Brown Stadium\, 3401 Bruin Ln\, BLACKSBURG\, VA\, 24060-2468\, United States
CATEGORIES:Practice
END:VEVENT
BEGIN:VEVENT
DTSTART;TZID=UTC:20180517T190000
DTEND;TZID=UTC:20180517T190000
DTSTAMP:20260421T102915
CREATED:20180110T220644Z
LAST-MODIFIED:20180110T221911Z
UID:3564-1526583600-1526583600@blacksburgsoccer.us
SUMMARY:District QuarterFinal
DESCRIPTION:
URL:http://blacksburgsoccer.us/ecevent/district-quarterfinal/
CATEGORIES:Game
END:VEVENT
BEGIN:VEVENT
DTSTART;TZID=UTC:20180518T180000
DTEND;TZID=UTC:20180518T180000
DTSTAMP:20260421T102915
CREATED:20180125T010938Z
LAST-MODIFIED:20180125T010938Z
UID:3691-1526666400-1526666400@blacksburgsoccer.us
SUMMARY:BHS Graduation
DESCRIPTION:
URL:http://blacksburgsoccer.us/ecevent/bhs-graduation/
END:VEVENT
BEGIN:VEVENT
DTSTART;TZID=UTC:20180519T160000
DTEND;TZID=UTC:20180519T180000
DTSTAMP:20260421T102915
CREATED:20180110T220840Z
LAST-MODIFIED:20180517T163734Z
UID:3566-1526745600-1526752800@blacksburgsoccer.us
SUMMARY:District SemiFinal
DESCRIPTION:
URL:http://blacksburgsoccer.us/ecevent/district-quarterfinal-2/
CATEGORIES:Game
END:VEVENT
END:VCALENDAR