BEGIN:VCALENDAR
VERSION:2.0
PRODID:-// - ECPv6.2.8.1//NONSGML v1.0//EN
CALSCALE:GREGORIAN
METHOD:PUBLISH
X-ORIGINAL-URL:http://blacksburgsoccer.us
X-WR-CALDESC:Events for 
REFRESH-INTERVAL;VALUE=DURATION:PT1H
X-Robots-Tag:noindex
X-PUBLISHED-TTL:PT1H
BEGIN:VTIMEZONE
TZID:UTC
BEGIN:STANDARD
TZOFFSETFROM:+0000
TZOFFSETTO:+0000
TZNAME:UTC
DTSTART:20190101T000000
END:STANDARD
END:VTIMEZONE
BEGIN:VEVENT
DTSTART;TZID=UTC:20190218T100000
DTEND;TZID=UTC:20190218T120000
DTSTAMP:20260420T145807
CREATED:20180810T204136Z
LAST-MODIFIED:20180810T204148Z
UID:4086-1550484000-1550491200@blacksburgsoccer.us
SUMMARY:2019 Season Begins!
DESCRIPTION:The 2019 season kicks off with the first day of tryouts on February 18th\, President’s day.  There will be two tryout sessions on this day. \n  \nFor complete details on the BHS Girls Soccer Tryout process go to the Tryout Information Post.
URL:http://blacksburgsoccer.us/ecevent/2018-season-begins-2/
LOCATION:Girls Soccer Practice Field\, 3401 Bruin Ln\, BLACKSBURG\, VA\, 24060-2468\, United States
CATEGORIES:Practice
ATTACH;FMTTYPE=image/jpeg:http://blacksburgsoccer.us/wp-content/uploads/2017/01/tryoutsnew.jpg
END:VEVENT
BEGIN:VEVENT
DTSTART;TZID=UTC:20190218T163000
DTEND;TZID=UTC:20190218T180000
DTSTAMP:20260420T145807
CREATED:20180810T204253Z
LAST-MODIFIED:20180810T204253Z
UID:4089-1550507400-1550512800@blacksburgsoccer.us
SUMMARY:Day 1\, 2nd Session
DESCRIPTION:The 2019 season kicks off with the first day of tryouts on February 18th\, President’s day.  There will be two tryout sessions on this day. \n  \nFor complete details on the BHS Girls Soccer Tryout process go to the Tryout Information Post.
URL:http://blacksburgsoccer.us/ecevent/2018-season-begins-3-2/
LOCATION:Girls Soccer Practice Field\, 3401 Bruin Ln\, BLACKSBURG\, VA\, 24060-2468\, United States
CATEGORIES:Practice
ATTACH;FMTTYPE=image/jpeg:http://blacksburgsoccer.us/wp-content/uploads/2017/01/tryoutsnew.jpg
END:VEVENT
BEGIN:VEVENT
DTSTART;TZID=UTC:20190219T150000
DTEND;TZID=UTC:20190219T170000
DTSTAMP:20260420T145807
CREATED:20180810T204451Z
LAST-MODIFIED:20190215T203849Z
UID:4091-1550588400-1550595600@blacksburgsoccer.us
SUMMARY:Tryouts: Day 2
DESCRIPTION:Day 2 of the BHS Girls Tryouts.  JV and Varsity candidates will split into two groups and continue their tryout process. \nFor complete details on the BHS Girls Soccer Tryout process go to the Tryout Information Post. \nVarsity: \nAny player interested in trying out for the Varsity team should plan to attend tryouts on Tuesday (2/19) at the far BHS soccer field: \n\nTuesday 2/19 (Tryout):\n\nLocation – BHS Field 3 (Outpost)\nVarsity Time – 3:00pm – 5:00pm\nIn the event of inclement weather the time will be 3:00 – 4:30pm at the BHS Gym.\n\n\n\nJV: \nAny player interested in trying out for the junior varsity team (including those that did not make the varsity team) should plan to attend tryouts on Tuesday: \n\nTuesday 2/19 (Tryout):\n\nLocation – BHS Field 3 (Outpost)\nTime – 3:20pm – 5:00pm\nIn the event of inclement weather the time will be 5:15 – 6:30pm at Prices Fork Elementary.\n\n\n\nPlayers that are unable to declare the team that they wish to tryout for due to Winter Sport activities must notify the coaching staff if they are unable to attend Tuesday Tryouts.  Emails can be sent to Coach Travis at vpitrav@vt.edu.
URL:http://blacksburgsoccer.us/ecevent/tryoutsday2-2/
LOCATION:Girls Soccer Practice Field\, 3401 Bruin Ln\, BLACKSBURG\, VA\, 24060-2468\, United States
CATEGORIES:Practice
ATTACH;FMTTYPE=image/jpeg:http://blacksburgsoccer.us/wp-content/uploads/2017/01/tryoutsnew.jpg
END:VEVENT
BEGIN:VEVENT
DTSTART;TZID=UTC:20190220T163000
DTEND;TZID=UTC:20190220T183000
DTSTAMP:20260420T145807
CREATED:20180810T204618Z
LAST-MODIFIED:20180810T204618Z
UID:4093-1550680200-1550687400@blacksburgsoccer.us
SUMMARY:Tryouts: Day 3
DESCRIPTION:Day 3 of the BHS Girls Tryouts.  JV and Varsity candidates will split into two groups and continue their tryout process. \nFor complete details on the BHS Girls Soccer Tryout process go to the Tryout Information Post.
URL:http://blacksburgsoccer.us/ecevent/tryoutsday3-2/
LOCATION:Girls Soccer Practice Field\, 3401 Bruin Ln\, BLACKSBURG\, VA\, 24060-2468\, United States
CATEGORIES:Practice
ATTACH;FMTTYPE=image/jpeg:http://blacksburgsoccer.us/wp-content/uploads/2017/01/tryoutsnew.jpg
END:VEVENT
BEGIN:VEVENT
DTSTART;TZID=UTC:20190221T152000
DTEND;TZID=UTC:20190221T170000
DTSTAMP:20260420T145807
CREATED:20180811T102139Z
LAST-MODIFIED:20190215T155129Z
UID:4145-1550762400-1550768400@blacksburgsoccer.us
SUMMARY:JV Practice
DESCRIPTION:JV players should arrive 10 minutes prior to the start of practice and be ready to train on time.  Players will be properly equipped with shinguards and practice uniforms. \nIf you need to see the school trainer please make time to do so prior to practice. \n*** Coaches reserve the option to change practice details so be sure to check GroupMe when in doubt.***
URL:http://blacksburgsoccer.us/ecevent/varsity-practice-2-2/2019-02-21/
LOCATION:Girls Soccer Practice Field\, 3401 Bruin Ln\, BLACKSBURG\, VA\, 24060-2468\, United States
CATEGORIES:Practice
END:VEVENT
BEGIN:VEVENT
DTSTART;TZID=UTC:20190222T183000
DTEND;TZID=UTC:20190222T184500
DTSTAMP:20260420T145807
CREATED:20190205T172307Z
LAST-MODIFIED:20190219T161709Z
UID:5480-1550860200-1550861100@blacksburgsoccer.us
SUMMARY:Fundraising Kick-off
DESCRIPTION:All players (JV and Varsity) will meet in at the High School to kick-off our fundraising efforts.  Be the first to get your gear and start fundraising. \nIf we are indoors\, JV parents will be asked to drive players from Prices Fork Elementary over to BHS for this quick meeting.  Players will be dismissed to their parents immediately following this meeting and parents are welcome to wait in the parking lot for 15-20 minutes.  Thanks for your flexibility! \nCoaches arrive at 6:15pm.
URL:http://blacksburgsoccer.us/ecevent/fundraising-kick-off/
CATEGORIES:Practice
END:VEVENT
BEGIN:VEVENT
DTSTART;TZID=UTC:20190223T103000
DTEND;TZID=UTC:20190223T120000
DTSTAMP:20260420T145807
CREATED:20180811T101226Z
LAST-MODIFIED:20190219T180840Z
UID:4139-1550917800-1550923200@blacksburgsoccer.us
SUMMARY:Varsity Morning Practice
DESCRIPTION:
URL:http://blacksburgsoccer.us/ecevent/varsity-morning-practice-2/
LOCATION:Girls Soccer Practice Field\, 3401 Bruin Ln\, BLACKSBURG\, VA\, 24060-2468\, United States
CATEGORIES:Practice
END:VEVENT
END:VCALENDAR