BEGIN:VCALENDAR
VERSION:2.0
PRODID:-// - ECPv6.2.8.1//NONSGML v1.0//EN
CALSCALE:GREGORIAN
METHOD:PUBLISH
X-ORIGINAL-URL:http://blacksburgsoccer.us
X-WR-CALDESC:Events for 
REFRESH-INTERVAL;VALUE=DURATION:PT1H
X-Robots-Tag:noindex
X-PUBLISHED-TTL:PT1H
BEGIN:VTIMEZONE
TZID:UTC
BEGIN:STANDARD
TZOFFSETFROM:+0000
TZOFFSETTO:+0000
TZNAME:UTC
DTSTART:20190101T000000
END:STANDARD
END:VTIMEZONE
BEGIN:VEVENT
DTSTART;TZID=UTC:20190319T173000
DTEND;TZID=UTC:20190319T183000
DTSTAMP:20260420T164406
CREATED:20180813T162356Z
LAST-MODIFIED:20190215T210728Z
UID:4318-1553016600-1553020200@blacksburgsoccer.us
SUMMARY:JV at Hidden Valley
DESCRIPTION:BHS plays Hidden Valley at Hidden Valley High School.  Click Here for full game details.  Bus Time is 4:30pm. \n\n	Details\n	\n		\n			\n				\n											Date\n												Time\n												League\n												Season\n										\n			\n			\n				\n											March 21\, 2019\n												6:00 pm\n												VHSL JV\n												2019\n										\n			\n		\n	\n\n\n\n	ResultsClub1st Half2nd HalfScoreOutcomeBlacksburg JV448WinHidden Valley JV000Loss\n\n		\n			\n			Blacksburg JV\n		\n		\n			\n				\n									\n			\n							\n					5Siri Bedsaul Forward   7Mary Jordan Defender 9Ava Massjouni Midfielder  11Peyton Seeley Midfielder 13Norin Bortz Midfielder   16Lily Rascher Forward  19Rebecca Webster Defender 22Kat Leedy Midfielder 1Ana Cox Goalkeeper
URL:http://blacksburgsoccer.us/ecevent/jv-at-hidden-valley/
CATEGORIES:Game
END:VEVENT
BEGIN:VEVENT
DTSTART;TZID=UTC:20190319T190000
DTEND;TZID=UTC:20190319T203000
DTSTAMP:20260420T164406
CREATED:20180813T162230Z
LAST-MODIFIED:20190215T210856Z
UID:4316-1553022000-1553027400@blacksburgsoccer.us
SUMMARY:Varsity at Hidden Valley
DESCRIPTION:BHS plays Hidden Valley at Hidden Valley High School.  Click Here for full game details. Bus Time is 4:30pm. \n\n	Details\n	\n		\n			\n				\n											Date\n												Time\n												League\n												Season\n										\n			\n			\n				\n											March 19\, 2019\n												7:30 pm\n												VHSL\n												2019\n										\n			\n		\n	\n\n\n\n	ResultsClub1st Half2nd HalfScoreOutcomeBlacksburg101WinHidden Valley000Loss\n\n		\n			\n			Blacksburg\n		\n		\n			\n				\n									\n			\n							\n					1Kinsey Verbrugge Goalkeeper      10Skyler Prosser Forward 18Kayla Monaghan Midfielder
URL:http://blacksburgsoccer.us/ecevent/varsity-at-hidden-valley/
CATEGORIES:Game
END:VEVENT
BEGIN:VEVENT
DTSTART;TZID=UTC:20190322T173000
DTEND;TZID=UTC:20190322T183000
DTSTAMP:20260420T164406
CREATED:20180813T162943Z
LAST-MODIFIED:20190215T224407Z
UID:4323-1553275800-1553279400@blacksburgsoccer.us
SUMMARY:JV at Cave Spring
DESCRIPTION:BHS plays Cave Spring at Cave Spring High School.  Click Here for full game details. Bus Time is 4:00PM. \n\n	Details\n	\n		\n			\n				\n											Date\n												Time\n												League\n												Season\n										\n			\n			\n				\n											March 22\, 2019\n												5:30 pm\n												VHSL JV\n												2019\n										\n			\n		\n	\n\n\n\n	ResultsClub1st Half2nd HalfScoreOutcomeBlacksburg JV224WinCave Spring JV000Loss\n\n		\n			\n			Blacksburg JV\n		\n		\n			\n				\n									\n			\n							\n					1Ana Cox Goalkeeper   4Mila Santsaver-Jones Midfielder 5Siri Bedsaul Forward 9Ava Massjouni Midfielder 12Emily Bishop Defender  13Norin Bortz Midfielder 18Alexis Hamborsky Midfielder
URL:http://blacksburgsoccer.us/ecevent/jv-at-cave-spring/
CATEGORIES:Game
END:VEVENT
BEGIN:VEVENT
DTSTART;TZID=UTC:20190322T190000
DTEND;TZID=UTC:20190322T203000
DTSTAMP:20260420T164407
CREATED:20180813T162753Z
LAST-MODIFIED:20190215T224447Z
UID:4321-1553281200-1553286600@blacksburgsoccer.us
SUMMARY:Varsity at Cave Spring
DESCRIPTION:BHS plays Cave Spring at Cave Spring High School.  Click Here for full game details.  Bus Time is 4:00PM. \n\n	Details\n	\n		\n			\n				\n											Date\n												Time\n												League\n												Season\n										\n			\n			\n				\n											March 22\, 2019\n												7:45 pm\n												VHSL\n												2019\n										\n			\n		\n	\n\n\n\n	ResultsClub1st Half2nd HalfScoreOutcomeBlacksburg224WinCave Spring000Loss\n\n		\n			\n			Blacksburg\n		\n		\n			\n				\n									\n			\n							\n					0Margaret Ferguson Goalkeeper 1Kinsey Verbrugge Goalkeeper    5Morgan Cheynet Midfielder   6Jeddie Dawson Defender 10Skyler Prosser Forward 18Kayla Monaghan Midfielder   29Leah Daily Goalkeeper
URL:http://blacksburgsoccer.us/ecevent/varsity-at-cave-spring/
CATEGORIES:Game
END:VEVENT
END:VCALENDAR