BEGIN:VCALENDAR
VERSION:2.0
PRODID:-// - ECPv6.2.8.1//NONSGML v1.0//EN
CALSCALE:GREGORIAN
METHOD:PUBLISH
X-ORIGINAL-URL:http://blacksburgsoccer.us
X-WR-CALDESC:Events for 
REFRESH-INTERVAL;VALUE=DURATION:PT1H
X-Robots-Tag:noindex
X-PUBLISHED-TTL:PT1H
BEGIN:VTIMEZONE
TZID:UTC
BEGIN:STANDARD
TZOFFSETFROM:+0000
TZOFFSETTO:+0000
TZNAME:UTC
DTSTART:20190101T000000
END:STANDARD
END:VTIMEZONE
BEGIN:VEVENT
DTSTART;TZID=UTC:20190326T173000
DTEND;TZID=UTC:20190326T183000
DTSTAMP:20260420T182535
CREATED:20180813T164147Z
LAST-MODIFIED:20180813T164147Z
UID:4327-1553621400-1553625000@blacksburgsoccer.us
SUMMARY:JV vs Northside
DESCRIPTION:BHS plays Northside at home.  Click Here for full game details. \n\n	Details\n	\n		\n			\n				\n											Date\n												Time\n												League\n												Season\n										\n			\n			\n				\n											March 25\, 2019\n												Canceled\n												VHSL JV\n												2019
URL:http://blacksburgsoccer.us/ecevent/jv-vs-northside/
CATEGORIES:Game
END:VEVENT
BEGIN:VEVENT
DTSTART;TZID=UTC:20190326T190000
DTEND;TZID=UTC:20190326T203000
DTSTAMP:20260420T182535
CREATED:20180813T164002Z
LAST-MODIFIED:20180813T164002Z
UID:4325-1553626800-1553632200@blacksburgsoccer.us
SUMMARY:Varsity vs Northside
DESCRIPTION:BHS plays Northside at home.  Click Here for full game details. \n\n	Details\n	\n		\n			\n				\n											Date\n												Time\n												League\n												Season\n										\n			\n			\n				\n											March 26\, 2019\n												6:00 pm\n												VHSL\n												2019\n										\n			\n		\n	\n\n\n\n	ResultsClub1st Half2nd HalfScoreOutcomeBlacksburg123WinNorthside000Loss\n\n		\n			\n			Blacksburg\n		\n		\n			\n				\n									\n			\n							\n					1Kinsey Verbrugge Goalkeeper  10Skyler Prosser Forward  14Akaela Feng Forward 18Kayla Monaghan Midfielder 29Leah Daily Goalkeeper
URL:http://blacksburgsoccer.us/ecevent/varsity-vs-northside/
CATEGORIES:Game
END:VEVENT
BEGIN:VEVENT
DTSTART;TZID=UTC:20190329T173000
DTEND;TZID=UTC:20190329T183000
DTSTAMP:20260420T182535
CREATED:20180813T164508Z
LAST-MODIFIED:20180813T164508Z
UID:4331-1553880600-1553884200@blacksburgsoccer.us
SUMMARY:JV vs Salem
DESCRIPTION:BHS plays Salem at home.  Click Here for full game details. \n\n	Details\n	\n		\n			\n				\n											Date\n												Time\n												League\n												Season\n										\n			\n			\n				\n											March 29\, 2019\n												5:30 pm\n												VHSL JV\n												2019\n										\n			\n		\n	\n\n \n\n	ResultsClub1st Half2nd HalfScoreOutcomeBlacksburg JV9312WinAlleghany JV000Loss\n \n		\n			\n			Blacksburg JV\n		\n		\n			\n				\n									\n			\n							\n					1Ana Cox Goalkeeper 4Mila Santsaver-Jones Midfielder   5Siri Bedsaul Forward  7Mary Jordan Defender  9Ava Massjouni Midfielder  12Emily Bishop Defender 13Norin Bortz Midfielder  17Sophia Vikesland Forward 18Alexis Hamborsky Midfielder  19Rebecca Webster Defender
URL:http://blacksburgsoccer.us/ecevent/jv-vs-salem/
CATEGORIES:Game
END:VEVENT
BEGIN:VEVENT
DTSTART;TZID=UTC:20190329T190000
DTEND;TZID=UTC:20190329T203000
DTSTAMP:20260420T182535
CREATED:20180813T164355Z
LAST-MODIFIED:20180813T164355Z
UID:4329-1553886000-1553891400@blacksburgsoccer.us
SUMMARY:Varsity vs Salem
DESCRIPTION:BHS plays Salem at home.  Click Here for full game details. \n\n	Details\n	\n		\n			\n				\n											Date\n												Time\n												League\n												Season\n										\n			\n			\n				\n											March 29\, 2019\n												6:00 pm\n												VHSL\n												2019\n										\n			\n		\n	\n\n \n\n	ResultsClub1st Half2nd HalfScoreOutcomeBlacksburg101DrawSalem101Draw\n \n		\n			\n			Blacksburg\n		\n		\n			\n				\n									\n			\n							\n					1Kinsey Verbrugge Goalkeeper  5Morgan Cheynet Midfielder 14Akaela Feng Forward 29Leah Daily Goalkeeper 				\n								\n			\n			\n		 \n 
URL:http://blacksburgsoccer.us/ecevent/varsity-vs-salem/
CATEGORIES:Game
END:VEVENT
END:VCALENDAR