BEGIN:VCALENDAR
VERSION:2.0
PRODID:-// - ECPv6.2.8.1//NONSGML v1.0//EN
CALSCALE:GREGORIAN
METHOD:PUBLISH
X-ORIGINAL-URL:http://blacksburgsoccer.us
X-WR-CALDESC:Events for 
REFRESH-INTERVAL;VALUE=DURATION:PT1H
X-Robots-Tag:noindex
X-PUBLISHED-TTL:PT1H
BEGIN:VTIMEZONE
TZID:UTC
BEGIN:STANDARD
TZOFFSETFROM:+0000
TZOFFSETTO:+0000
TZNAME:UTC
DTSTART:20190101T000000
END:STANDARD
END:VTIMEZONE
BEGIN:VEVENT
DTSTART;TZID=UTC:20190430T173000
DTEND;TZID=UTC:20190430T183000
DTSTAMP:20260420T194505
CREATED:20180813T190803Z
LAST-MODIFIED:20190215T224921Z
UID:4625-1556645400-1556649000@blacksburgsoccer.us
SUMMARY:JV at Salem
DESCRIPTION:BHS plays Salem at Salem High School.  Click Here for full game details. Bus Time is 3:45PM. \n\n	Details\n	\n		\n			\n				\n											Date\n												Time\n												League\n												Season\n										\n			\n			\n				\n											April 4\, 2019\n												5:30 pm\n												VHSL JV\n												2019\n										\n			\n		\n	\n\n \n\n	ResultsClub1st Half2nd HalfScoreOutcomeBlacksburg JV448WinAlleghany JV000Loss\n \n		\n			\n			Blacksburg JV\n		\n		\n			\n				\n									\n			\n							\n					1Ana Cox Goalkeeper 4Mila Santsaver-Jones Midfielder   5Siri Bedsaul Forward   7Mary Jordan Defender   9Ava Massjouni Midfielder 12Emily Bishop Defender 13Norin Bortz Midfielder 14Addie Zeiger Forward 15Annelise Rosmaita Defender 17Sophia Vikesland Forward
URL:http://blacksburgsoccer.us/ecevent/jv-at-salem/
CATEGORIES:Game
END:VEVENT
BEGIN:VEVENT
DTSTART;TZID=UTC:20190430T190000
DTEND;TZID=UTC:20190430T203000
DTSTAMP:20260420T194506
CREATED:20180813T190410Z
LAST-MODIFIED:20190215T225002Z
UID:4623-1556650800-1556656200@blacksburgsoccer.us
SUMMARY:Varsity at Salem
DESCRIPTION:BHS plays Salem at Salem High School.  Click Here for full game details. Bus Time is 4:00PM. \n\n	Details\n	\n		\n			\n				\n											Date\n												Time\n												League\n												Season\n										\n			\n			\n				\n											April 30\, 2019\n												8:00 pm\n												VHSL\n												2019\n										\n			\n		\n	\n\n \n\n	ResultsClub1st Half2nd HalfScoreOutcomeBlacksburg213WinSalem000Loss\n \n		\n			\n			Blacksburg\n		\n		\n			\n				\n									\n			\n							\n					1Kinsey Verbrugge Goalkeeper    4Scarlett Hurst Forward 10Skyler Prosser Forward  7Riley Verniel Midfielder 15Kylene Monaghan Midfielder
URL:http://blacksburgsoccer.us/ecevent/varsity-at-salem/
CATEGORIES:Game
END:VEVENT
BEGIN:VEVENT
DTSTART;TZID=UTC:20190503T173000
DTEND;TZID=UTC:20190503T183000
DTSTAMP:20260420T194506
CREATED:20180814T123121Z
LAST-MODIFIED:20180814T123121Z
UID:4630-1556904600-1556908200@blacksburgsoccer.us
SUMMARY:JV vs Pulaski
DESCRIPTION:BHS plays Pulaski at home.  Click Here for full game details. \n\n	Details\n	\n		\n			\n				\n											Date\n												Time\n												League\n												Season\n										\n			\n			\n				\n											May 3\, 2019\n												Canceled\n												VHSL JV\n												2019
URL:http://blacksburgsoccer.us/ecevent/jv-vs-pulaski/
CATEGORIES:Game
END:VEVENT
BEGIN:VEVENT
DTSTART;TZID=UTC:20190503T190000
DTEND;TZID=UTC:20190503T203000
DTSTAMP:20260420T194506
CREATED:20180814T123006Z
LAST-MODIFIED:20180814T123006Z
UID:4628-1556910000-1556915400@blacksburgsoccer.us
SUMMARY:Varsity vs Pulaski (Senior Night)
DESCRIPTION:BHS plays Pulaski at home.  Click Here for full game details. \n\n	Details\n	\n		\n			\n				\n											Date\n												Time\n												League\n												Season\n										\n			\n			\n				\n											May 3\, 2019\n												6:00 pm\n												VHSL\n												2019\n										\n			\n		\n	\n\n \n\n	ResultsClub1st Half2nd HalfScoreOutcomeBlacksburg336WinPulaski011Loss\n \n		\n			\n			Blacksburg\n		\n		\n			\n				\n									\n			\n							\n					5Morgan Cheynet Midfielder 10Skyler Prosser Forward12Ellie Gresh Midfielder  15Kylene Monaghan Midfielder 18Kayla Monaghan Midfielder 19Erika Modlin Defender 0Margaret Ferguson Goalkeeper 29Leah Daily Goalkeeper 				\n								\n			\n			\n		 \n 
URL:http://blacksburgsoccer.us/ecevent/varsity-vs-pulaski-senior-night/
CATEGORIES:Game
END:VEVENT
END:VCALENDAR